BEGIN:VCALENDAR
VERSION:2.0
PRODID:-//Suffolk Alumnae Chapter of Delta Sigma Theta Sorority, Inc. - ECPv6.15.17//NONSGML v1.0//EN
CALSCALE:GREGORIAN
METHOD:PUBLISH
X-ORIGINAL-URL:https://www.suffolkdst.org
X-WR-CALDESC:Events for Suffolk Alumnae Chapter of Delta Sigma Theta Sorority, Inc.
REFRESH-INTERVAL;VALUE=DURATION:PT1H
X-Robots-Tag:noindex
X-PUBLISHED-TTL:PT1H
BEGIN:VTIMEZONE
TZID:America/New_York
BEGIN:DAYLIGHT
TZOFFSETFROM:-0500
TZOFFSETTO:-0400
TZNAME:EDT
DTSTART:20250309T070000
END:DAYLIGHT
BEGIN:STANDARD
TZOFFSETFROM:-0400
TZOFFSETTO:-0500
TZNAME:EST
DTSTART:20251102T060000
END:STANDARD
BEGIN:DAYLIGHT
TZOFFSETFROM:-0500
TZOFFSETTO:-0400
TZNAME:EDT
DTSTART:20260308T070000
END:DAYLIGHT
BEGIN:STANDARD
TZOFFSETFROM:-0400
TZOFFSETTO:-0500
TZNAME:EST
DTSTART:20261101T060000
END:STANDARD
BEGIN:DAYLIGHT
TZOFFSETFROM:-0500
TZOFFSETTO:-0400
TZNAME:EDT
DTSTART:20270314T070000
END:DAYLIGHT
BEGIN:STANDARD
TZOFFSETFROM:-0400
TZOFFSETTO:-0500
TZNAME:EST
DTSTART:20271107T060000
END:STANDARD
END:VTIMEZONE
BEGIN:VEVENT
DTSTART;VALUE=DATE:20260701
DTEND;VALUE=DATE:20260801
DTSTAMP:20260423T182226
CREATED:20251129T020441Z
LAST-MODIFIED:20260311T175856Z
UID:9637-1782864000-1785542399@www.suffolkdst.org
SUMMARY:Coming Soon
DESCRIPTION:
URL:https://www.suffolkdst.org/event/coming-soon/
LOCATION:VA
CATEGORIES:Event
ATTACH;FMTTYPE=image/png:https://www.suffolkdst.org/wp-content/uploads/2025/10/Coming-Soon-Webpage-Post.png
END:VEVENT
BEGIN:VEVENT
DTSTART;VALUE=DATE:20260801
DTEND;VALUE=DATE:20260802
DTSTAMP:20260423T182226
CREATED:20251031T003442Z
LAST-MODIFIED:20260423T032154Z
UID:9619-1785542400-1785628799@www.suffolkdst.org
SUMMARY:Coming Soon...Stay Tuned For More Updates!!
DESCRIPTION:
URL:https://www.suffolkdst.org/event/coming-soon-stay-tuned-for-more-updates/
LOCATION:VA
CATEGORIES:Chapter Event,Event,Program and Planning
ATTACH;FMTTYPE=image/png:https://www.suffolkdst.org/wp-content/uploads/2025/10/Coming-Soon-Webpage-Post.png
END:VEVENT
END:VCALENDAR