BEGIN:VCALENDAR
VERSION:2.0
PRODID:-//Suffolk Alumnae Chapter of Delta Sigma Theta Sorority, Inc. - ECPv6.15.17//NONSGML v1.0//EN
CALSCALE:GREGORIAN
METHOD:PUBLISH
X-WR-CALNAME:Suffolk Alumnae Chapter of Delta Sigma Theta Sorority, Inc.
X-ORIGINAL-URL:https://www.suffolkdst.org
X-WR-CALDESC:Events for Suffolk Alumnae Chapter of Delta Sigma Theta Sorority, Inc.
REFRESH-INTERVAL;VALUE=DURATION:PT1H
X-Robots-Tag:noindex
X-PUBLISHED-TTL:PT1H
BEGIN:VTIMEZONE
TZID:America/New_York
BEGIN:DAYLIGHT
TZOFFSETFROM:-0500
TZOFFSETTO:-0400
TZNAME:EDT
DTSTART:20240310T070000
END:DAYLIGHT
BEGIN:STANDARD
TZOFFSETFROM:-0400
TZOFFSETTO:-0500
TZNAME:EST
DTSTART:20241103T060000
END:STANDARD
BEGIN:DAYLIGHT
TZOFFSETFROM:-0500
TZOFFSETTO:-0400
TZNAME:EDT
DTSTART:20250309T070000
END:DAYLIGHT
BEGIN:STANDARD
TZOFFSETFROM:-0400
TZOFFSETTO:-0500
TZNAME:EST
DTSTART:20251102T060000
END:STANDARD
BEGIN:DAYLIGHT
TZOFFSETFROM:-0500
TZOFFSETTO:-0400
TZNAME:EDT
DTSTART:20260308T070000
END:DAYLIGHT
BEGIN:STANDARD
TZOFFSETFROM:-0400
TZOFFSETTO:-0500
TZNAME:EST
DTSTART:20261101T060000
END:STANDARD
BEGIN:DAYLIGHT
TZOFFSETFROM:-0500
TZOFFSETTO:-0400
TZNAME:EDT
DTSTART:20270314T070000
END:DAYLIGHT
BEGIN:STANDARD
TZOFFSETFROM:-0400
TZOFFSETTO:-0500
TZNAME:EST
DTSTART:20271107T060000
END:STANDARD
END:VTIMEZONE
BEGIN:VEVENT
DTSTART;TZID=America/New_York:20260421T190000
DTEND;TZID=America/New_York:20260421T200000
DTSTAMP:20260423T120740
CREATED:20260402T172753Z
LAST-MODIFIED:20260402T172754Z
UID:9961-1776798000-1776801600@www.suffolkdst.org
SUMMARY:Let’s Talk Finances! (Part II)
DESCRIPTION:
URL:https://www.suffolkdst.org/event/lets-talk-finances-part-ii/
LOCATION:FB Live/YouTube Live/Twitter Live
CATEGORIES:Economic Development,Program and Planning
ATTACH;FMTTYPE=image/jpeg:https://www.suffolkdst.org/wp-content/uploads/2026/04/ff.jpg
END:VEVENT
BEGIN:VEVENT
DTSTART;TZID=America/New_York:20260402T190000
DTEND;TZID=America/New_York:20260402T200000
DTSTAMP:20260423T120740
CREATED:20260402T143920Z
LAST-MODIFIED:20260402T172844Z
UID:9957-1775156400-1775160000@www.suffolkdst.org
SUMMARY:Let’s Talk Finances! (Part I)
DESCRIPTION:
URL:https://www.suffolkdst.org/event/lets-talk-finances/
LOCATION:FB Live/YouTube Live/Twitter Live
CATEGORIES:Economic Development,Event,Program and Planning
ATTACH;FMTTYPE=image/jpeg:https://www.suffolkdst.org/wp-content/uploads/2026/04/ff.jpg
END:VEVENT
BEGIN:VEVENT
DTSTART;TZID=America/New_York:20260331T000000
DTEND;TZID=America/New_York:20260401T235900
DTSTAMP:20260423T120740
CREATED:20260311T175708Z
LAST-MODIFIED:20260311T180019Z
UID:9941-1774915200-1775087940@www.suffolkdst.org
SUMMARY:Make Every Day Count
DESCRIPTION:
URL:https://www.suffolkdst.org/event/make-every-day-count/
CATEGORIES:Event,Program and Planning
ATTACH;FMTTYPE=image/jpeg:https://www.suffolkdst.org/wp-content/uploads/2026/03/makecents.jpg
END:VEVENT
BEGIN:VEVENT
DTSTART;TZID=America/New_York:20260328T100000
DTEND;TZID=America/New_York:20260328T140000
DTSTAMP:20260423T120740
CREATED:20251202T160800Z
LAST-MODIFIED:20251202T161006Z
UID:9639-1774692000-1774706400@www.suffolkdst.org
SUMMARY:🩸 Give the Gift of Life! Join the Suffolk Deltas & the American Red Cross! ❤️
DESCRIPTION:
URL:https://www.suffolkdst.org/event/9639/
LOCATION:Greater First Baptist Church-Orlando\, 600 Factory St\,\, Suffolk\, VA\, 23434\, United States
CATEGORIES:Event,Physical & Mental Health,Program and Planning
ATTACH;FMTTYPE=image/png:https://www.suffolkdst.org/wp-content/uploads/2025/12/BD2026.png
END:VEVENT
BEGIN:VEVENT
DTSTART;TZID=America/New_York:20260328T100000
DTEND;TZID=America/New_York:20260328T130000
DTSTAMP:20260423T120740
CREATED:20260325T182053Z
LAST-MODIFIED:20260325T182053Z
UID:9949-1774692000-1774702800@www.suffolkdst.org
SUMMARY:Styled For Success Day of Service
DESCRIPTION:
URL:https://www.suffolkdst.org/event/styled-for-success-day-of-service/
LOCATION:Greater First Baptist Church-Orlando\, 600 Factory St\,\, Suffolk\, VA\, 23434\, United States
CATEGORIES:Economic Development,Event,Program and Planning
ATTACH;FMTTYPE=image/jpeg:https://www.suffolkdst.org/wp-content/uploads/2026/03/dress.jpg
END:VEVENT
BEGIN:VEVENT
DTSTART;TZID=America/New_York:20260205T190000
DTEND;TZID=America/New_York:20260205T200000
DTSTAMP:20260423T120740
CREATED:20260128T000339Z
LAST-MODIFIED:20260128T000339Z
UID:9721-1770318000-1770321600@www.suffolkdst.org
SUMMARY:From Aspiration to Application SAC-DST Scholarship Success Virtual Info Session
DESCRIPTION:
URL:https://www.suffolkdst.org/event/from-aspiration-to-application-sac-dst-scholarship-success-virtual-info-session/
LOCATION:Via Zoom
CATEGORIES:College Hill 757,Educational Development,Event,Program and Planning
ATTACH;FMTTYPE=image/png:https://www.suffolkdst.org/wp-content/uploads/2026/01/2026-Scholarship-Program-Flyer.png
END:VEVENT
BEGIN:VEVENT
DTSTART;TZID=America/New_York:20260127T190000
DTEND;TZID=America/New_York:20260127T203000
DTSTAMP:20260423T120740
CREATED:20251212T215603Z
LAST-MODIFIED:20260106T015241Z
UID:9644-1769540400-1769545800@www.suffolkdst.org
SUMMARY:Growing Violets Meet & Greet
DESCRIPTION:
URL:https://www.suffolkdst.org/event/growing-violets-meet-greet/
LOCATION:Greater First Baptist Church-Orlando\, 600 Factory St\,\, Suffolk\, VA\, 23434\, United States
CATEGORIES:Event,Program and Planning
ATTACH;FMTTYPE=image/png:https://www.suffolkdst.org/wp-content/uploads/2025/12/2025-GVMTGGR.png
END:VEVENT
BEGIN:VEVENT
DTSTART;TZID=America/New_York:20251113T190000
DTEND;TZID=America/New_York:20251113T200000
DTSTAMP:20260423T120740
CREATED:20251031T001916Z
LAST-MODIFIED:20251031T001916Z
UID:9616-1763060400-1763064000@www.suffolkdst.org
SUMMARY:Black Health Series Saving Lives Together: Community Solutions to the Fentanyl Crisis
DESCRIPTION:
URL:https://www.suffolkdst.org/event/black-health-series-saving-lives-together-community-solutions-to-the-fentanyl-crisis/
LOCATION:Via Zoom
CATEGORIES:Chapter Event,Physical & Mental Health,Program and Planning
ATTACH;FMTTYPE=image/jpeg:https://www.suffolkdst.org/wp-content/uploads/2025/10/566216698_1293344216168375_3211190734219694432_n.jpg
END:VEVENT
BEGIN:VEVENT
DTSTART;TZID=America/New_York:20251031T000000
DTEND;TZID=America/New_York:20251130T235900
DTSTAMP:20260423T120740
CREATED:20251003T054230Z
LAST-MODIFIED:20251003T054329Z
UID:9595-1761868800-1764547140@www.suffolkdst.org
SUMMARY:Genieve Shelter's $1 a Day for 31 Days October Challenge - Domestic Violence Awareness
DESCRIPTION:
URL:https://www.suffolkdst.org/event/genieve-shelters-1-a-day-for-31-days-october-challenge-domestic-violence-awareness/
CATEGORIES:Chapter Event,Physical & Mental Health,Program and Planning
ATTACH;FMTTYPE=image/jpeg:https://www.suffolkdst.org/wp-content/uploads/2025/10/30-days-challenge.jpg
END:VEVENT
BEGIN:VEVENT
DTSTART;TZID=America/New_York:20251005T000000
DTEND;TZID=America/New_York:20251005T233000
DTSTAMP:20260423T120740
CREATED:20250730T170524Z
LAST-MODIFIED:20250828T181853Z
UID:9499-1759622400-1759707000@www.suffolkdst.org
SUMMARY:Lock Down The Bag 3.0
DESCRIPTION:
URL:https://www.suffolkdst.org/event/9499/
CATEGORIES:Chapter Event,Fundraising,Program and Planning
ATTACH;FMTTYPE=image/png:https://www.suffolkdst.org/wp-content/uploads/2025/07/LD3-1.png
END:VEVENT
BEGIN:VEVENT
DTSTART;TZID=America/New_York:20250927T090000
DTEND;TZID=America/New_York:20250927T130000
DTSTAMP:20260423T120740
CREATED:20250820T231817Z
LAST-MODIFIED:20250910T145935Z
UID:9525-1758963600-1758978000@www.suffolkdst.org
SUMMARY:1 Walk For 2 Causes!!
DESCRIPTION:
URL:https://www.suffolkdst.org/event/1-walk-for-2-causes/
LOCATION:King’s Fork High School
CATEGORIES:Chapter Event,Event,Physical & Mental Health,Program and Planning
ATTACH;FMTTYPE=image/png:https://www.suffolkdst.org/wp-content/uploads/2025/08/25STJude.png
END:VEVENT
BEGIN:VEVENT
DTSTART;TZID=America/New_York:20250924T180000
DTEND;TZID=America/New_York:20250924T193000
DTSTAMP:20260423T120740
CREATED:20250902T134949Z
LAST-MODIFIED:20250902T134950Z
UID:9571-1758736800-1758742200@www.suffolkdst.org
SUMMARY:Youth Program Meet & Greet and Orientation
DESCRIPTION:
URL:https://www.suffolkdst.org/event/youth-program-meet-greet-and-orientation/
LOCATION:East Suffolk Recreation Center\, 138 S 6th St\, Suffolk\, VA\, 23434\, United States
CATEGORIES:Educational Development,Event,Program and Planning
ATTACH;FMTTYPE=image/png:https://www.suffolkdst.org/wp-content/uploads/2025/09/SACDST-Delta-Gems-and-Academy.png
END:VEVENT
BEGIN:VEVENT
DTSTART;TZID=America/New_York:20250920T180000
DTEND;TZID=America/New_York:20250920T200000
DTSTAMP:20260423T120740
CREATED:20250820T232127Z
LAST-MODIFIED:20250820T232127Z
UID:9529-1758391200-1758398400@www.suffolkdst.org
SUMMARY:Relay For Life
DESCRIPTION:
URL:https://www.suffolkdst.org/event/relay-for-life/
LOCATION:Luter Sport Complex\, 900 West Main Street\, Smithfield\, VA\, 23430\, United States
CATEGORIES:Chapter Event,Event,Physical & Mental Health,Program and Planning
ATTACH;FMTTYPE=image/jpeg:https://www.suffolkdst.org/wp-content/uploads/2025/08/relayforlife.jpg
END:VEVENT
BEGIN:VEVENT
DTSTART;TZID=America/New_York:20250918T183000
DTEND;TZID=America/New_York:20250918T200000
DTSTAMP:20260423T120740
CREATED:20250902T171024Z
LAST-MODIFIED:20250902T171024Z
UID:9574-1758220200-1758225600@www.suffolkdst.org
SUMMARY:Suffolk Speak Local Candidate Forum
DESCRIPTION:
URL:https://www.suffolkdst.org/event/suffolk-speak-local-candidate-forum/
LOCATION:First Baptist Church Mahan\, 112 Mahan Street\, Suffolk\, VA\, 23434\, United States
CATEGORIES:Chapter Event,Event,Political Awareness and Involvement,Program and Planning
ATTACH;FMTTYPE=image/png:https://www.suffolkdst.org/wp-content/uploads/2025/09/Suffolk-Speaks-Candidate-Forum.png
END:VEVENT
BEGIN:VEVENT
DTSTART;TZID=America/New_York:20250805T173000
DTEND;TZID=America/New_York:20250805T203000
DTSTAMP:20260423T120740
CREATED:20250730T170229Z
LAST-MODIFIED:20250730T170229Z
UID:9496-1754415000-1754425800@www.suffolkdst.org
SUMMARY:2025 National Night Out
DESCRIPTION:
URL:https://www.suffolkdst.org/event/2025-national-night-out/
CATEGORIES:Chapter Event,Educational Development,Physical & Mental Health,Program and Planning,Social Action
ATTACH;FMTTYPE=image/png:https://www.suffolkdst.org/wp-content/uploads/2025/07/NNO-Public-Flyer.png
END:VEVENT
END:VCALENDAR