BEGIN:VCALENDAR
VERSION:2.0
PRODID:-//Suffolk Alumnae Chapter of Delta Sigma Theta Sorority, Inc. - ECPv6.15.17//NONSGML v1.0//EN
CALSCALE:GREGORIAN
METHOD:PUBLISH
X-WR-CALNAME:Suffolk Alumnae Chapter of Delta Sigma Theta Sorority, Inc.
X-ORIGINAL-URL:https://www.suffolkdst.org
X-WR-CALDESC:Events for Suffolk Alumnae Chapter of Delta Sigma Theta Sorority, Inc.
REFRESH-INTERVAL;VALUE=DURATION:PT1H
X-Robots-Tag:noindex
X-PUBLISHED-TTL:PT1H
BEGIN:VTIMEZONE
TZID:America/New_York
BEGIN:DAYLIGHT
TZOFFSETFROM:-0500
TZOFFSETTO:-0400
TZNAME:EDT
DTSTART:20250309T070000
END:DAYLIGHT
BEGIN:STANDARD
TZOFFSETFROM:-0400
TZOFFSETTO:-0500
TZNAME:EST
DTSTART:20251102T060000
END:STANDARD
BEGIN:DAYLIGHT
TZOFFSETFROM:-0500
TZOFFSETTO:-0400
TZNAME:EDT
DTSTART:20260308T070000
END:DAYLIGHT
BEGIN:STANDARD
TZOFFSETFROM:-0400
TZOFFSETTO:-0500
TZNAME:EST
DTSTART:20261101T060000
END:STANDARD
BEGIN:DAYLIGHT
TZOFFSETFROM:-0500
TZOFFSETTO:-0400
TZNAME:EDT
DTSTART:20270314T070000
END:DAYLIGHT
BEGIN:STANDARD
TZOFFSETFROM:-0400
TZOFFSETTO:-0500
TZNAME:EST
DTSTART:20271107T060000
END:STANDARD
END:VTIMEZONE
BEGIN:VEVENT
DTSTART;TZID=America/New_York:20260328T100000
DTEND;TZID=America/New_York:20260328T130000
DTSTAMP:20260423T132245
CREATED:20260325T182053Z
LAST-MODIFIED:20260325T182053Z
UID:9949-1774692000-1774702800@www.suffolkdst.org
SUMMARY:Styled For Success Day of Service
DESCRIPTION:
URL:https://www.suffolkdst.org/event/styled-for-success-day-of-service/
LOCATION:Greater First Baptist Church-Orlando\, 600 Factory St\,\, Suffolk\, VA\, 23434\, United States
CATEGORIES:Economic Development,Event,Program and Planning
ATTACH;FMTTYPE=image/jpeg:https://www.suffolkdst.org/wp-content/uploads/2026/03/dress.jpg
END:VEVENT
BEGIN:VEVENT
DTSTART;TZID=America/New_York:20260328T100000
DTEND;TZID=America/New_York:20260328T140000
DTSTAMP:20260423T132245
CREATED:20251202T160800Z
LAST-MODIFIED:20251202T161006Z
UID:9639-1774692000-1774706400@www.suffolkdst.org
SUMMARY:🩸 Give the Gift of Life! Join the Suffolk Deltas & the American Red Cross! ❤️
DESCRIPTION:
URL:https://www.suffolkdst.org/event/9639/
LOCATION:Greater First Baptist Church-Orlando\, 600 Factory St\,\, Suffolk\, VA\, 23434\, United States
CATEGORIES:Event,Physical & Mental Health,Program and Planning
ATTACH;FMTTYPE=image/png:https://www.suffolkdst.org/wp-content/uploads/2025/12/BD2026.png
END:VEVENT
BEGIN:VEVENT
DTSTART;TZID=America/New_York:20260331T000000
DTEND;TZID=America/New_York:20260401T235900
DTSTAMP:20260423T132245
CREATED:20260311T175708Z
LAST-MODIFIED:20260311T180019Z
UID:9941-1774915200-1775087940@www.suffolkdst.org
SUMMARY:Make Every Day Count
DESCRIPTION:
URL:https://www.suffolkdst.org/event/make-every-day-count/
CATEGORIES:Event,Program and Planning
ATTACH;FMTTYPE=image/jpeg:https://www.suffolkdst.org/wp-content/uploads/2026/03/makecents.jpg
END:VEVENT
END:VCALENDAR