BEGIN:VCALENDAR
VERSION:2.0
PRODID:-//Suffolk Alumnae Chapter of Delta Sigma Theta Sorority, Inc. - ECPv6.15.17//NONSGML v1.0//EN
CALSCALE:GREGORIAN
METHOD:PUBLISH
X-WR-CALNAME:Suffolk Alumnae Chapter of Delta Sigma Theta Sorority, Inc.
X-ORIGINAL-URL:https://www.suffolkdst.org
X-WR-CALDESC:Events for Suffolk Alumnae Chapter of Delta Sigma Theta Sorority, Inc.
REFRESH-INTERVAL;VALUE=DURATION:PT1H
X-Robots-Tag:noindex
X-PUBLISHED-TTL:PT1H
BEGIN:VTIMEZONE
TZID:America/New_York
BEGIN:DAYLIGHT
TZOFFSETFROM:-0500
TZOFFSETTO:-0400
TZNAME:EDT
DTSTART:20240310T070000
END:DAYLIGHT
BEGIN:STANDARD
TZOFFSETFROM:-0400
TZOFFSETTO:-0500
TZNAME:EST
DTSTART:20241103T060000
END:STANDARD
BEGIN:DAYLIGHT
TZOFFSETFROM:-0500
TZOFFSETTO:-0400
TZNAME:EDT
DTSTART:20250309T070000
END:DAYLIGHT
BEGIN:STANDARD
TZOFFSETFROM:-0400
TZOFFSETTO:-0500
TZNAME:EST
DTSTART:20251102T060000
END:STANDARD
BEGIN:DAYLIGHT
TZOFFSETFROM:-0500
TZOFFSETTO:-0400
TZNAME:EDT
DTSTART:20260308T070000
END:DAYLIGHT
BEGIN:STANDARD
TZOFFSETFROM:-0400
TZOFFSETTO:-0500
TZNAME:EST
DTSTART:20261101T060000
END:STANDARD
END:VTIMEZONE
BEGIN:VEVENT
DTSTART;TZID=America/New_York:20251019T150000
DTEND;TZID=America/New_York:20251019T160000
DTSTAMP:20260423T160137
CREATED:20251013T181155Z
LAST-MODIFIED:20251013T181214Z
UID:9603-1760886000-1760889600@www.suffolkdst.org
SUMMARY:Virtual Phone Banking Power Hour
DESCRIPTION:
URL:https://www.suffolkdst.org/event/virtual-phone-banking-power-hour-2/
CATEGORIES:Chapter Event,Political Awareness and Involvement
ATTACH;FMTTYPE=image/jpeg:https://www.suffolkdst.org/wp-content/uploads/2025/10/phone.jpg
END:VEVENT
BEGIN:VEVENT
DTSTART;TZID=America/New_York:20251018T120000
DTEND;TZID=America/New_York:20251018T150000
DTSTAMP:20260423T160137
CREATED:20251013T180828Z
LAST-MODIFIED:20251013T180828Z
UID:9600-1760788800-1760799600@www.suffolkdst.org
SUMMARY:GOTV Community Canvassing
DESCRIPTION:
URL:https://www.suffolkdst.org/event/gotv-community-canvassing/
LOCATION:East Suffolk Recreation Center\, 138 S 6th St\, Suffolk\, VA\, 23434\, United States
CATEGORIES:Chapter Event,Political Awareness and Involvement
ATTACH;FMTTYPE=image/jpeg:https://www.suffolkdst.org/wp-content/uploads/2025/10/gotv.jpg
END:VEVENT
BEGIN:VEVENT
DTSTART;TZID=America/New_York:20251005T150000
DTEND;TZID=America/New_York:20251005T160000
DTSTAMP:20260423T160137
CREATED:20251003T053901Z
LAST-MODIFIED:20251003T053901Z
UID:9592-1759676400-1759680000@www.suffolkdst.org
SUMMARY:Virtual Phone Banking Power Hour
DESCRIPTION:
URL:https://www.suffolkdst.org/event/virtual-phone-banking-power-hour/
CATEGORIES:Event,Political Awareness and Involvement
ATTACH;FMTTYPE=image/jpeg:https://www.suffolkdst.org/wp-content/uploads/2025/10/phone-banking.jpg
END:VEVENT
BEGIN:VEVENT
DTSTART;TZID=America/New_York:20250918T183000
DTEND;TZID=America/New_York:20250918T200000
DTSTAMP:20260423T160137
CREATED:20250902T171024Z
LAST-MODIFIED:20250902T171024Z
UID:9574-1758220200-1758225600@www.suffolkdst.org
SUMMARY:Suffolk Speak Local Candidate Forum
DESCRIPTION:
URL:https://www.suffolkdst.org/event/suffolk-speak-local-candidate-forum/
LOCATION:First Baptist Church Mahan\, 112 Mahan Street\, Suffolk\, VA\, 23434\, United States
CATEGORIES:Chapter Event,Event,Political Awareness and Involvement,Program and Planning
ATTACH;FMTTYPE=image/png:https://www.suffolkdst.org/wp-content/uploads/2025/09/Suffolk-Speaks-Candidate-Forum.png
END:VEVENT
BEGIN:VEVENT
DTSTART;TZID=America/New_York:20250809T100000
DTEND;TZID=America/New_York:20250809T120000
DTSTAMP:20260423T160137
CREATED:20250730T171044Z
LAST-MODIFIED:20250730T171247Z
UID:9502-1754733600-1754740800@www.suffolkdst.org
SUMMARY:Voter Registration Drive Training
DESCRIPTION:
URL:https://www.suffolkdst.org/event/voter-registration-drive-training/
CATEGORIES:Chapter Event,Political Awareness and Involvement,Social Action
ATTACH;FMTTYPE=image/jpeg:https://www.suffolkdst.org/wp-content/uploads/2025/07/520053133_1214002050769259_9132225000389700134_n.jpg
END:VEVENT
END:VCALENDAR