BEGIN:VCALENDAR
VERSION:2.0
PRODID:-//Suffolk Alumnae Chapter of Delta Sigma Theta Sorority, Inc. - ECPv6.15.17//NONSGML v1.0//EN
CALSCALE:GREGORIAN
METHOD:PUBLISH
X-ORIGINAL-URL:https://www.suffolkdst.org
X-WR-CALDESC:Events for Suffolk Alumnae Chapter of Delta Sigma Theta Sorority, Inc.
REFRESH-INTERVAL;VALUE=DURATION:PT1H
X-Robots-Tag:noindex
X-PUBLISHED-TTL:PT1H
BEGIN:VTIMEZONE
TZID:America/New_York
BEGIN:DAYLIGHT
TZOFFSETFROM:-0500
TZOFFSETTO:-0400
TZNAME:EDT
DTSTART:20240310T070000
END:DAYLIGHT
BEGIN:STANDARD
TZOFFSETFROM:-0400
TZOFFSETTO:-0500
TZNAME:EST
DTSTART:20241103T060000
END:STANDARD
BEGIN:DAYLIGHT
TZOFFSETFROM:-0500
TZOFFSETTO:-0400
TZNAME:EDT
DTSTART:20250309T070000
END:DAYLIGHT
BEGIN:STANDARD
TZOFFSETFROM:-0400
TZOFFSETTO:-0500
TZNAME:EST
DTSTART:20251102T060000
END:STANDARD
BEGIN:DAYLIGHT
TZOFFSETFROM:-0500
TZOFFSETTO:-0400
TZNAME:EDT
DTSTART:20260308T070000
END:DAYLIGHT
BEGIN:STANDARD
TZOFFSETFROM:-0400
TZOFFSETTO:-0500
TZNAME:EST
DTSTART:20261101T060000
END:STANDARD
END:VTIMEZONE
BEGIN:VEVENT
DTSTART;TZID=America/New_York:20251031T000000
DTEND;TZID=America/New_York:20251130T235900
DTSTAMP:20260423T183325
CREATED:20251003T054230Z
LAST-MODIFIED:20251003T054329Z
UID:9595-1761868800-1764547140@www.suffolkdst.org
SUMMARY:Genieve Shelter's $1 a Day for 31 Days October Challenge - Domestic Violence Awareness
DESCRIPTION:
URL:https://www.suffolkdst.org/event/genieve-shelters-1-a-day-for-31-days-october-challenge-domestic-violence-awareness/
LOCATION:VA
CATEGORIES:Chapter Event,Physical & Mental Health,Program and Planning
ATTACH;FMTTYPE=image/jpeg:https://www.suffolkdst.org/wp-content/uploads/2025/10/30-days-challenge.jpg
END:VEVENT
BEGIN:VEVENT
DTSTART;TZID=America/New_York:20251113T190000
DTEND;TZID=America/New_York:20251113T200000
DTSTAMP:20260423T183325
CREATED:20251031T001916Z
LAST-MODIFIED:20251031T001916Z
UID:9616-1763060400-1763064000@www.suffolkdst.org
SUMMARY:Black Health Series Saving Lives Together: Community Solutions to the Fentanyl Crisis
DESCRIPTION:
URL:https://www.suffolkdst.org/event/black-health-series-saving-lives-together-community-solutions-to-the-fentanyl-crisis/
LOCATION:Via Zoom
CATEGORIES:Chapter Event,Physical & Mental Health,Program and Planning
ATTACH;FMTTYPE=image/jpeg:https://www.suffolkdst.org/wp-content/uploads/2025/10/566216698_1293344216168375_3211190734219694432_n.jpg
END:VEVENT
BEGIN:VEVENT
DTSTART;TZID=America/New_York:20251122T100000
DTEND;TZID=America/New_York:20251122T110000
DTSTAMP:20260423T183325
CREATED:20251106T223947Z
LAST-MODIFIED:20251106T223947Z
UID:9623-1763805600-1763809200@www.suffolkdst.org
SUMMARY:REVIVE! Training
DESCRIPTION:
URL:https://www.suffolkdst.org/event/revive-training/
LOCATION:First Baptist Church Mahan\, 112 Mahan Street\, Suffolk\, VA\, 23434\, United States
CATEGORIES:Event,Physical & Mental Health
ATTACH;FMTTYPE=image/jpeg:https://www.suffolkdst.org/wp-content/uploads/2025/11/576221068_1311196157716514_5708266612773945389_n.jpg
END:VEVENT
END:VCALENDAR