BEGIN:VCALENDAR
VERSION:2.0
PRODID:-//Suffolk Alumnae Chapter of Delta Sigma Theta Sorority, Inc. - ECPv6.15.17//NONSGML v1.0//EN
CALSCALE:GREGORIAN
METHOD:PUBLISH
X-ORIGINAL-URL:https://www.suffolkdst.org
X-WR-CALDESC:Events for Suffolk Alumnae Chapter of Delta Sigma Theta Sorority, Inc.
REFRESH-INTERVAL;VALUE=DURATION:PT1H
X-Robots-Tag:noindex
X-PUBLISHED-TTL:PT1H
BEGIN:VTIMEZONE
TZID:America/New_York
BEGIN:DAYLIGHT
TZOFFSETFROM:-0500
TZOFFSETTO:-0400
TZNAME:EDT
DTSTART:20250309T070000
END:DAYLIGHT
BEGIN:STANDARD
TZOFFSETFROM:-0400
TZOFFSETTO:-0500
TZNAME:EST
DTSTART:20251102T060000
END:STANDARD
BEGIN:DAYLIGHT
TZOFFSETFROM:-0500
TZOFFSETTO:-0400
TZNAME:EDT
DTSTART:20260308T070000
END:DAYLIGHT
BEGIN:STANDARD
TZOFFSETFROM:-0400
TZOFFSETTO:-0500
TZNAME:EST
DTSTART:20261101T060000
END:STANDARD
BEGIN:DAYLIGHT
TZOFFSETFROM:-0500
TZOFFSETTO:-0400
TZNAME:EDT
DTSTART:20270314T070000
END:DAYLIGHT
BEGIN:STANDARD
TZOFFSETFROM:-0400
TZOFFSETTO:-0500
TZNAME:EST
DTSTART:20271107T060000
END:STANDARD
END:VTIMEZONE
BEGIN:VEVENT
DTSTART;TZID=America/New_York:20260502T150000
DTEND;TZID=America/New_York:20260502T170000
DTSTAMP:20260423T132730
CREATED:20260106T020454Z
LAST-MODIFIED:20260106T020454Z
UID:9653-1777734000-1777741200@www.suffolkdst.org
SUMMARY:2026 May Week Celebration
DESCRIPTION:
URL:https://www.suffolkdst.org/event/2026-may-week-celebration/
LOCATION:Greater First Baptist Church-Orlando\, 600 Factory St\,\, Suffolk\, VA\, 23434\, United States
CATEGORIES:Educational Development,Event,May Week,Physical & Mental Health,Program and Planning
ATTACH;FMTTYPE=image/png:https://www.suffolkdst.org/wp-content/uploads/2026/01/Youre-Invited.png
END:VEVENT
BEGIN:VEVENT
DTSTART;TZID=America/New_York:20260517T140000
DTEND;TZID=America/New_York:20260517T170000
DTSTAMP:20260423T132730
CREATED:20260325T182347Z
LAST-MODIFIED:20260325T182347Z
UID:9952-1779026400-1779037200@www.suffolkdst.org
SUMMARY:👒Kentucky Derby D.E.A.R.S. Luncheon/Auction
DESCRIPTION:
URL:https://www.suffolkdst.org/event/%f0%9f%91%92kentucky-derby-d-e-a-r-s-luncheon-auction/
LOCATION:Hilton Garden Inn Suffolk Riverfront\, 100 E Constance Rd\, Suffolk\, VA\, 23434\, United States
CATEGORIES:Educational Development,Event,Program and Planning
ATTACH;FMTTYPE=image/jpeg:https://www.suffolkdst.org/wp-content/uploads/2026/03/derby.jpg
END:VEVENT
END:VCALENDAR